BEGIN:VCALENDAR
VERSION:2.0
PRODID:-//SMPN 1 Simo Boyolali - ECPv6.15.13.1//NONSGML v1.0//EN
CALSCALE:GREGORIAN
METHOD:PUBLISH
X-ORIGINAL-URL:https://spensasiboy.sch.id
X-WR-CALDESC:Events for SMPN 1 Simo Boyolali
REFRESH-INTERVAL;VALUE=DURATION:PT1H
X-Robots-Tag:noindex
X-PUBLISHED-TTL:PT1H
BEGIN:VTIMEZONE
TZID:UTC
BEGIN:STANDARD
TZOFFSETFROM:+0000
TZOFFSETTO:+0000
TZNAME:UTC
DTSTART:20230101T000000
END:STANDARD
END:VTIMEZONE
BEGIN:VEVENT
DTSTART;TZID=UTC:20240621T080000
DTEND;TZID=UTC:20240623T170000
DTSTAMP:20260421T014827
CREATED:20240621T025353Z
LAST-MODIFIED:20240621T025723Z
UID:14408-1718956800-1719162000@spensasiboy.sch.id
SUMMARY:"Market Day"Gelar Karya P5 Tahun 2024
DESCRIPTION:
URL:https://spensasiboy.sch.id/acara/market-daygelar-karya-p5-tahun-2024/
LOCATION:Lapangan Sekolah
CATEGORIES:Pameran
END:VEVENT
BEGIN:VEVENT
DTSTART;TZID=UTC:20240622T080000
DTEND;TZID=UTC:20240623T170000
DTSTAMP:20260421T014827
CREATED:20240621T025734Z
LAST-MODIFIED:20240621T025734Z
UID:14410-1719043200-1719162000@spensasiboy.sch.id
SUMMARY:Penerimaan Rapor Semester Genap 2023/2024
DESCRIPTION:
URL:https://spensasiboy.sch.id/acara/penerimaan-rapor-semester-genap-2023-2024/
LOCATION:SMPN 1 Simo
CATEGORIES:Penerimaan Rapor & Sosialisasi
ATTACH;FMTTYPE=image/jpeg:https://spensasiboy.sch.id/webmain/wp-content/uploads/2024/06/IMG_20240401_103143-scaled.jpg
END:VEVENT
END:VCALENDAR