BEGIN:VCALENDAR
VERSION:2.0
PRODID:-//SMPN 1 Simo Boyolali - ECPv6.15.13.1//NONSGML v1.0//EN
CALSCALE:GREGORIAN
METHOD:PUBLISH
X-WR-CALNAME:SMPN 1 Simo Boyolali
X-ORIGINAL-URL:https://spensasiboy.sch.id
X-WR-CALDESC:Events for SMPN 1 Simo Boyolali
REFRESH-INTERVAL;VALUE=DURATION:PT1H
X-Robots-Tag:noindex
X-PUBLISHED-TTL:PT1H
BEGIN:VTIMEZONE
TZID:UTC
BEGIN:STANDARD
TZOFFSETFROM:+0000
TZOFFSETTO:+0000
TZNAME:UTC
DTSTART:20250101T000000
END:STANDARD
END:VTIMEZONE
BEGIN:VEVENT
DTSTART;TZID=UTC:20260330T080000
DTEND;TZID=UTC:20260411T170000
DTSTAMP:20260420T195132
CREATED:20260330T011818Z
LAST-MODIFIED:20260330T011818Z
UID:16077-1774857600-1775926800@spensasiboy.sch.id
SUMMARY:Kokurikuler Tahun 2026
DESCRIPTION:
URL:https://spensasiboy.sch.id/acara/kokurikuler-tahun-2026/
CATEGORIES:Kokurikuler
END:VEVENT
BEGIN:VEVENT
DTSTART;TZID=UTC:20260420T080000
DTEND;TZID=UTC:20260425T170000
DTSTAMP:20260420T195132
CREATED:20260420T035055Z
LAST-MODIFIED:20260420T035151Z
UID:16100-1776672000-1777136400@spensasiboy.sch.id
SUMMARY:Asesmen Sumatif Akhir Tahun (ASAT) Kelas 9 Tahun 2025/2026
DESCRIPTION:
URL:https://spensasiboy.sch.id/acara/asesmen-sumatif-akhir-tahun-asat-kelas-9-tahun-2025-2026/
LOCATION:SMPN 1 Simo
CATEGORIES:Asesmen Bersama
ATTACH;FMTTYPE=image/jpeg:https://spensasiboy.sch.id/webmain/wp-content/uploads/2024/05/WhatsApp-Image-2024-05-14-at-8.24.45-AM.jpeg
END:VEVENT
END:VCALENDAR