BEGIN:VCALENDAR
VERSION:2.0
PRODID:-//SMPN 1 Simo Boyolali - ECPv6.15.13.1//NONSGML v1.0//EN
CALSCALE:GREGORIAN
METHOD:PUBLISH
X-ORIGINAL-URL:https://spensasiboy.sch.id
X-WR-CALDESC:Events for SMPN 1 Simo Boyolali
REFRESH-INTERVAL;VALUE=DURATION:PT1H
X-Robots-Tag:noindex
X-PUBLISHED-TTL:PT1H
BEGIN:VTIMEZONE
TZID:UTC
BEGIN:STANDARD
TZOFFSETFROM:+0000
TZOFFSETTO:+0000
TZNAME:UTC
DTSTART:20230101T000000
END:STANDARD
END:VTIMEZONE
BEGIN:VEVENT
DTSTART;TZID=UTC:20240814T080000
DTEND;TZID=UTC:20240814T170000
DTSTAMP:20260420T151622
CREATED:20240809T012257Z
LAST-MODIFIED:20240809T012257Z
UID:14452-1723622400-1723654800@spensasiboy.sch.id
SUMMARY:Upacara Hari Pramuka
DESCRIPTION:
URL:https://spensasiboy.sch.id/acara/upacara-hari-pramuka/
LOCATION:Lapangan Sekolah
CATEGORIES:Upacara Hari Besar Nasional
ATTACH;FMTTYPE=image/jpeg:https://spensasiboy.sch.id/webmain/wp-content/uploads/2023/10/DSC_0625.jpg
END:VEVENT
BEGIN:VEVENT
DTSTART;TZID=UTC:20240817T080000
DTEND;TZID=UTC:20240818T170000
DTSTAMP:20260420T151622
CREATED:20240809T002514Z
LAST-MODIFIED:20240809T002514Z
UID:14446-1723881600-1724000400@spensasiboy.sch.id
SUMMARY:Upacara Hari Kemerdekaan Indonesia
DESCRIPTION:
URL:https://spensasiboy.sch.id/acara/upacara-hari-kemerdekaan-indonesia/
LOCATION:Lapangan Simo
CATEGORIES:Upacara Hari Besar Nasional
ATTACH;FMTTYPE=image/jpeg:https://spensasiboy.sch.id/webmain/wp-content/uploads/2023/09/IMG20230817163853_00-scaled.jpg
END:VEVENT
BEGIN:VEVENT
DTSTART;TZID=UTC:20240821T080000
DTEND;TZID=UTC:20240821T170000
DTSTAMP:20260420T151622
CREATED:20240809T004128Z
LAST-MODIFIED:20240809T004128Z
UID:14449-1724227200-1724259600@spensasiboy.sch.id
SUMMARY:Karnaval Hari Kemerdekaan Indonesia ke-79
DESCRIPTION:
URL:https://spensasiboy.sch.id/acara/karnaval-hari-kemerdekaan-indonesia-ke-79/
LOCATION:Simo
CATEGORIES:Pameran
ATTACH;FMTTYPE=image/jpeg:https://spensasiboy.sch.id/webmain/wp-content/uploads/2023/09/DSC_1116-scaled.jpg
END:VEVENT
END:VCALENDAR