BEGIN:VCALENDAR
VERSION:2.0
PRODID:-//SMPN 1 Simo Boyolali - ECPv6.15.13.1//NONSGML v1.0//EN
CALSCALE:GREGORIAN
METHOD:PUBLISH
X-ORIGINAL-URL:https://spensasiboy.sch.id
X-WR-CALDESC:Events for SMPN 1 Simo Boyolali
REFRESH-INTERVAL;VALUE=DURATION:PT1H
X-Robots-Tag:noindex
X-PUBLISHED-TTL:PT1H
BEGIN:VTIMEZONE
TZID:UTC
BEGIN:STANDARD
TZOFFSETFROM:+0000
TZOFFSETTO:+0000
TZNAME:UTC
DTSTART:20230101T000000
END:STANDARD
END:VTIMEZONE
BEGIN:VEVENT
DTSTART;TZID=UTC:20240904T080000
DTEND;TZID=UTC:20241012T170000
DTSTAMP:20260420T075619
CREATED:20240829T235239Z
LAST-MODIFIED:20240829T235239Z
UID:14501-1725436800-1728752400@spensasiboy.sch.id
SUMMARY:ANBK 2024
DESCRIPTION:
URL:https://spensasiboy.sch.id/acara/anbk-2024/
LOCATION:LAB Komputer
CATEGORIES:Asesmen Bersama
ATTACH;FMTTYPE=image/jpeg:https://spensasiboy.sch.id/webmain/wp-content/uploads/2024/03/IMG_20240219_094704-1-scaled.jpg
END:VEVENT
BEGIN:VEVENT
DTSTART;TZID=UTC:20241002T080000
DTEND;TZID=UTC:20241005T170000
DTSTAMP:20260420T075619
CREATED:20230929T235633Z
LAST-MODIFIED:20241002T001008Z
UID:12180-1727856000-1728147600@spensasiboy.sch.id
SUMMARY:Lomba Fashion Show Hari Batik Nasional
DESCRIPTION:Pemerintah juga menetapkan 2 Oktober sebagai Hari Batik Nasional yang wajib diperingati setiap tahunnya. Setelah itu\, Presiden keenam Susilo Bambang Yudhoyono mengeluarkan Keppres Nomor 33 Tahun 2009 yang menetapkan 2 Oktober sebagai Hari Batik Nasional. SMP Negeri 1 Simo memperingati Hari Batik Nasional tahun 2023 dengan mengenakan batik bagi guru dan TAS serta fashion show bagi peserta didik.
URL:https://spensasiboy.sch.id/acara/hari-batik-nasional/
LOCATION:SMPN 1 Simo
CATEGORIES:Hari Besar Nasional,Lomba Antar Kelas
ATTACH;FMTTYPE=image/jpeg:https://spensasiboy.sch.id/webmain/wp-content/uploads/2023/09/selamat-hari-batik-nasional.jpg
END:VEVENT
BEGIN:VEVENT
DTSTART;TZID=UTC:20241015T080000
DTEND;TZID=UTC:20241016T170000
DTSTAMP:20260420T075619
CREATED:20230922T002325Z
LAST-MODIFIED:20241002T001418Z
UID:11967-1728979200-1729098000@spensasiboy.sch.id
SUMMARY:LCC Pancasila & Wawasan Kebangsaan
DESCRIPTION:SMP Negeri 1 Simo mengikuti LCC Pancasila & Wawasan Kebangsaan se-Kabupaten Boyolali Tahun 2023. SMP Negeri 1 Simo bertindak sebagai tuan rumah lomba tersebut.
URL:https://spensasiboy.sch.id/acara/lcc-pancasila-wawasan-kebangsaan/
LOCATION:SMPN 5 Boyolali
CATEGORIES:Lomba Antar Sekolah
ATTACH;FMTTYPE=image/jpeg:https://spensasiboy.sch.id/webmain/wp-content/uploads/2023/09/WhatsApp-Image-2022-11-17-at-15.27.23-1.jpeg
END:VEVENT
END:VCALENDAR